View In:
ArcGIS JavaScript
ArcGIS Online Map Viewer
ArcGIS Earth
ArcGIS Pro
Service Description:
Map Name: Map
Legend
All Layers and Tables
Layers:
Description:
Service Item Id: 1d0daed5a98b4b03866f3cde7229839a
Copyright Text:
Spatial Reference:
PROJCS["NAD_1983_HARN_StatePlane_Missouri_Central_FIPS_2402_USFeet",GEOGCS["GCS_North_American_1983_HARN",DATUM["D_North_American_1983_HARN",SPHEROID["GRS_1980",6378137.0,298.257222101]],PRIMEM["Greenwich",0.0],UNIT["Degree",0.0174532925199433]],PROJECTION["Transverse_Mercator"],PARAMETER["False_Easting",1640416.666666667],PARAMETER["False_Northing",0.0],PARAMETER["Central_Meridian",-92.5],PARAMETER["Scale_Factor",0.9999333333333333],PARAMETER["Latitude_Of_Origin",35.83333333333334],UNIT["Foot_US",0.3048006096012192]],VERTCS["NAVD_1988",VDATUM["North_American_Vertical_Datum_1988"],PARAMETER["Vertical_Shift",0.0],PARAMETER["Direction",1.0],UNIT["Meter",1.0]]
Single Fused Map Cache: true
Tile Info:
- Height: 256.0
- Width: 256.0
- DPI: 96.0
-
Levels of Detail: 19
-
Level ID: 0
[ Start Tile, End Tile ]
- Resolution: 256348.37211175586
- Scale: 295313915.300573349
-
Level ID: 1
[ Start Tile, End Tile ]
- Resolution: 128174.18605587793
- Scale: 147656957.650286674
-
Level ID: 2
[ Start Tile, End Tile ]
- Resolution: 64087.093027938965
- Scale: 73828478.8251433372
-
Level ID: 3
[ Start Tile, End Tile ]
- Resolution: 32043.5465139694825
- Scale: 36914239.4125716686
-
Level ID: 4
[ Start Tile, End Tile ]
- Resolution: 16021.7732569847412
- Scale: 18457119.7062858343
-
Level ID: 5
[ Start Tile, End Tile ]
- Resolution: 8010.88662849237062
- Scale: 9228559.85314291716
-
Level ID: 6
[ Start Tile, End Tile ]
- Resolution: 4005.44331424618531
- Scale: 4614279.92657145858
-
Level ID: 7
[ Start Tile, End Tile ]
- Resolution: 2002.72165712309265
- Scale: 2307139.96328572929
-
Level ID: 8
[ Start Tile, End Tile ]
- Resolution: 1001.36082856154633
- Scale: 1153569.98164286464
-
Level ID: 9
[ Start Tile, End Tile ]
- Resolution: 500.680414280773164
- Scale: 576784.990821432322
-
Level ID: 10
[ Start Tile, End Tile ]
- Resolution: 250.340207140386582
- Scale: 288392.495410716161
-
Level ID: 11
[ Start Tile, End Tile ]
- Resolution: 125.170103570193291
- Scale: 144196.247705358081
-
Level ID: 12
[ Start Tile, End Tile ]
- Resolution: 62.585051785096645
- Scale: 72098.12385267904
-
Level ID: 13
[ Start Tile, End Tile ]
- Resolution: 31.292525892548323
- Scale: 36049.06192633952
-
Level ID: 14
[ Start Tile, End Tile ]
- Resolution: 15.646262946274161
- Scale: 18024.53096316976
-
Level ID: 15
[ Start Tile, End Tile ]
- Resolution: 7.8231314731370807
- Scale: 9012.26548158488
-
Level ID: 16
[ Start Tile, End Tile ]
- Resolution: 3.9115657365685403
- Scale: 4506.13274079244
-
Level ID: 17
[ Start Tile, End Tile ]
- Resolution: 1.9557828682842702
- Scale: 2253.06637039622
-
Level ID: 18
[ Start Tile, End Tile ]
- Resolution: 0.97789143414213509
- Scale: 1126.53318519811
- Format: Mixed
- Compression Quality: 75.0
- Origin: X: -3.1172174963638082E7
Y: 1.9798230221963212E7
- Spatial Reference: PROJCS["NAD_1983_HARN_StatePlane_Missouri_Central_FIPS_2402_USFeet",GEOGCS["GCS_North_American_1983_HARN",DATUM["D_North_American_1983_HARN",SPHEROID["GRS_1980",6378137.0,298.257222101]],PRIMEM["Greenwich",0.0],UNIT["Degree",0.0174532925199433]],PROJECTION["Transverse_Mercator"],PARAMETER["False_Easting",1640416.666666667],PARAMETER["False_Northing",0.0],PARAMETER["Central_Meridian",-92.5],PARAMETER["Scale_Factor",0.9999333333333333],PARAMETER["Latitude_Of_Origin",35.83333333333334],UNIT["Foot_US",0.3048006096012192]],VERTCS["NAVD_1988",VDATUM["North_American_Vertical_Datum_1988"],PARAMETER["Vertical_Shift",0.0],PARAMETER["Direction",1.0],UNIT["Meter",1.0]]
Storage Info:
- Storage Format: esriMapCacheStorageModeCompactV2
- Packet Size: 128
Initial Extent:
XMin: 1820173.9140054507
YMin: 319932.99973092496
XMax: 1841673.8060649012
YMax: 332851.45605092496
Spatial Reference: PROJCS["NAD_1983_HARN_StatePlane_Missouri_Central_FIPS_2402_USFeet",GEOGCS["GCS_North_American_1983_HARN",DATUM["D_North_American_1983_HARN",SPHEROID["GRS_1980",6378137.0,298.257222101]],PRIMEM["Greenwich",0.0],UNIT["Degree",0.0174532925199433]],PROJECTION["Transverse_Mercator"],PARAMETER["False_Easting",1640416.666666667],PARAMETER["False_Northing",0.0],PARAMETER["Central_Meridian",-92.5],PARAMETER["Scale_Factor",0.9999333333333333],PARAMETER["Latitude_Of_Origin",35.83333333333334],UNIT["Foot_US",0.3048006096012192]],VERTCS["NAVD_1988",VDATUM["North_American_Vertical_Datum_1988"],PARAMETER["Vertical_Shift",0.0],PARAMETER["Direction",1.0],UNIT["Meter",1.0]]
Full Extent:
XMin: 1795000.0
YMin: 290000.0
XMax: 1856000.0
YMax: 360000.0
Spatial Reference: PROJCS["NAD_1983_HARN_StatePlane_Missouri_Central_FIPS_2402_USFeet",GEOGCS["GCS_North_American_1983_HARN",DATUM["D_North_American_1983_HARN",SPHEROID["GRS_1980",6378137.0,298.257222101]],PRIMEM["Greenwich",0.0],UNIT["Degree",0.0174532925199433]],PROJECTION["Transverse_Mercator"],PARAMETER["False_Easting",1640416.666666667],PARAMETER["False_Northing",0.0],PARAMETER["Central_Meridian",-92.5],PARAMETER["Scale_Factor",0.9999333333333333],PARAMETER["Latitude_Of_Origin",35.83333333333334],UNIT["Foot_US",0.3048006096012192]],VERTCS["NAVD_1988",VDATUM["North_American_Vertical_Datum_1988"],PARAMETER["Vertical_Shift",0.0],PARAMETER["Direction",1.0],UNIT["Meter",1.0]]
Units: esriFeet
Supported Image Format Types: PNG32,PNG24,PNG,JPG,DIB,TIFF,EMF,PS,PDF,GIF,SVG,SVGZ,BMP
Document Info:
Title: C:\Users\BerkshireC\OneDrive - City of West Plains\Documents\ArcGIS\Projects\Arial 15\Arial 15.aprx
Author:
Comments:
Subject:
Category:
Keywords:
AntialiasingMode: None
TextAntialiasingMode: Force
Supports Dynamic Layers: false
MaxRecordCount: 1000
MaxSelectionCount: 0
MaxImageHeight: 4096
MaxImageWidth: 4096
Supported Query Formats: JSON, geoJSON, PBF
Supports Query Data Elements: true
Min Scale: 591657527.591555
Max Scale: 0
Min LOD: 10
Max LOD: 18
Supports Datum Transformation: true
Child Resources:
Info
Supported Operations:
QueryLegends
EstimateExportTilesSize
ExportTiles
Return Updates