{
 "documentInfo": {
  "Category": "",
  "Keywords": "",
  "Version": "2.9.0",
  "Comments": "",
  "AntialiasingMode": "None",
  "Title": "C:\\Users\\BerkshireC\\OneDrive - City of West Plains\\Documents\\ArcGIS\\Projects\\Arial 15\\Arial 15.aprx",
  "Author": "",
  "TextAntialiasingMode": "Force",
  "Subject": ""
 },
 "maxImageWidth": 4096,
 "maxRecordCount": 1000,
 "tileInfo": {
  "lods": [
   {
    "level": 0,
    "scale": 295313915.300573349,
    "resolution": 256348.37211175586
   },
   {
    "level": 1,
    "scale": 147656957.650286674,
    "resolution": 128174.18605587793
   },
   {
    "level": 2,
    "scale": 73828478.8251433372,
    "resolution": 64087.093027938965
   },
   {
    "level": 3,
    "scale": 36914239.4125716686,
    "resolution": 32043.5465139694825
   },
   {
    "level": 4,
    "scale": 18457119.7062858343,
    "resolution": 16021.7732569847412
   },
   {
    "level": 5,
    "scale": 9228559.85314291716,
    "resolution": 8010.88662849237062
   },
   {
    "level": 6,
    "scale": 4614279.92657145858,
    "resolution": 4005.44331424618531
   },
   {
    "level": 7,
    "scale": 2307139.96328572929,
    "resolution": 2002.72165712309265
   },
   {
    "level": 8,
    "scale": 1153569.98164286464,
    "resolution": 1001.36082856154633
   },
   {
    "level": 9,
    "scale": 576784.990821432322,
    "resolution": 500.680414280773164
   },
   {
    "level": 10,
    "scale": 288392.495410716161,
    "resolution": 250.340207140386582
   },
   {
    "level": 11,
    "scale": 144196.247705358081,
    "resolution": 125.170103570193291
   },
   {
    "level": 12,
    "scale": 72098.12385267904,
    "resolution": 62.585051785096645
   },
   {
    "level": 13,
    "scale": 36049.06192633952,
    "resolution": 31.292525892548323
   },
   {
    "level": 14,
    "scale": 18024.53096316976,
    "resolution": 15.646262946274161
   },
   {
    "level": 15,
    "scale": 9012.26548158488,
    "resolution": 7.8231314731370807
   },
   {
    "level": 16,
    "scale": 4506.13274079244,
    "resolution": 3.9115657365685403
   },
   {
    "level": 17,
    "scale": 2253.06637039622,
    "resolution": 1.9557828682842702
   },
   {
    "level": 18,
    "scale": 1126.53318519811,
    "resolution": 0.97789143414213509
   }
  ],
  "origin": {
   "x": -31172174.9636380821,
   "y": 19798230.2219632119
  },
  "format": "Mixed",
  "compressionQuality": 75,
  "rows": 256,
  "dpi": 96,
  "spatialReference": {
   "wkt": "PROJCS[\"NAD_1983_HARN_StatePlane_Missouri_Central_FIPS_2402_USFeet\",GEOGCS[\"GCS_North_American_1983_HARN\",DATUM[\"D_North_American_1983_HARN\",SPHEROID[\"GRS_1980\",6378137.0,298.257222101]],PRIMEM[\"Greenwich\",0.0],UNIT[\"Degree\",0.0174532925199433]],PROJECTION[\"Transverse_Mercator\"],PARAMETER[\"False_Easting\",1640416.666666667],PARAMETER[\"False_Northing\",0.0],PARAMETER[\"Central_Meridian\",-92.5],PARAMETER[\"Scale_Factor\",0.9999333333333333],PARAMETER[\"Latitude_Of_Origin\",35.83333333333334],UNIT[\"Foot_US\",0.3048006096012192]],VERTCS[\"NAVD_1988\",VDATUM[\"North_American_Vertical_Datum_1988\"],PARAMETER[\"Vertical_Shift\",0.0],PARAMETER[\"Direction\",1.0],UNIT[\"Meter\",1.0]]",
   "falseM": -100000,
   "xyTolerance": 0.0032808333333333331,
   "mUnits": 10000,
   "zUnits": 10000,
   "zTolerance": 0.001,
   "xyUnits": 3048.00609601219276,
   "mTolerance": 0.001,
   "falseX": -16806900,
   "falseY": -45827300,
   "falseZ": -100000
  },
  "cols": 256
 },
 "description": "",
 "datesInUnknownTimezone": false,
 "units": "esriFeet",
 "supportedImageFormatTypes": "PNG32,PNG24,PNG,JPG,DIB,TIFF,EMF,PS,PDF,GIF,SVG,SVGZ,BMP",
 "supportsClipping": true,
 "maxImageHeight": 4096,
 "exportTilesAllowed": true,
 "tables": [],
 "supportsDatumTransformation": true,
 "cimVersion": "3.1.0",
 "supportsQueryDataElements": true,
 "layers": [
  {
   "subLayerIds": null,
   "maxScale": 0,
   "name": "CityWestPlains2015_20to1.sid",
   "defaultVisibility": true,
   "id": 0,
   "minScale": 0,
   "supportsDynamicLegends": true,
   "type": "Raster Layer",
   "parentLayerId": -1
  }
 ],
 "mapName": "Map",
 "archivingInfo": {
  "supportsHistoricMoment": false
 },
 "minScale": 591657527.591555,
 "spatialReference": {
  "wkt": "PROJCS[\"NAD_1983_HARN_StatePlane_Missouri_Central_FIPS_2402_USFeet\",GEOGCS[\"GCS_North_American_1983_HARN\",DATUM[\"D_North_American_1983_HARN\",SPHEROID[\"GRS_1980\",6378137.0,298.257222101]],PRIMEM[\"Greenwich\",0.0],UNIT[\"Degree\",0.0174532925199433]],PROJECTION[\"Transverse_Mercator\"],PARAMETER[\"False_Easting\",1640416.666666667],PARAMETER[\"False_Northing\",0.0],PARAMETER[\"Central_Meridian\",-92.5],PARAMETER[\"Scale_Factor\",0.9999333333333333],PARAMETER[\"Latitude_Of_Origin\",35.83333333333334],UNIT[\"Foot_US\",0.3048006096012192]],VERTCS[\"NAVD_1988\",VDATUM[\"North_American_Vertical_Datum_1988\"],PARAMETER[\"Vertical_Shift\",0.0],PARAMETER[\"Direction\",1.0],UNIT[\"Meter\",1.0]]",
  "falseM": -100000,
  "xyTolerance": 0.0032808333333333331,
  "mUnits": 10000,
  "zUnits": 10000,
  "zTolerance": 0.001,
  "xyUnits": 3048.00609601219276,
  "mTolerance": 0.001,
  "falseX": -16806900,
  "falseY": -45827300,
  "falseZ": -100000
 },
 "fullExtent": {
  "ymin": 290000,
  "xmin": 1795000,
  "ymax": 360000,
  "xmax": 1856000,
  "spatialReference": {
   "wkt": "PROJCS[\"NAD_1983_HARN_StatePlane_Missouri_Central_FIPS_2402_USFeet\",GEOGCS[\"GCS_North_American_1983_HARN\",DATUM[\"D_North_American_1983_HARN\",SPHEROID[\"GRS_1980\",6378137.0,298.257222101]],PRIMEM[\"Greenwich\",0.0],UNIT[\"Degree\",0.0174532925199433]],PROJECTION[\"Transverse_Mercator\"],PARAMETER[\"False_Easting\",1640416.666666667],PARAMETER[\"False_Northing\",0.0],PARAMETER[\"Central_Meridian\",-92.5],PARAMETER[\"Scale_Factor\",0.9999333333333333],PARAMETER[\"Latitude_Of_Origin\",35.83333333333334],UNIT[\"Foot_US\",0.3048006096012192]],VERTCS[\"NAVD_1988\",VDATUM[\"North_American_Vertical_Datum_1988\"],PARAMETER[\"Vertical_Shift\",0.0],PARAMETER[\"Direction\",1.0],UNIT[\"Meter\",1.0]]",
   "falseM": -100000,
   "xyTolerance": 0.0032808333333333331,
   "mUnits": 10000,
   "zUnits": 10000,
   "zTolerance": 0.001,
   "xyUnits": 3048.00609601219276,
   "mTolerance": 0.001,
   "falseX": -16806900,
   "falseY": -45827300,
   "falseZ": -100000
  }
 },
 "supportedExtensions": "",
 "serviceItemId": "1d0daed5a98b4b03866f3cde7229839a",
 "capabilities": "TilesOnly,Tilemap",
 "supportsDynamicLayers": false,
 "maxScale": 0,
 "singleFusedMapCache": true,
 "storageInfo": {
  "storageFormat": "esriMapCacheStorageModeCompactV2",
  "packetSize": 128
 },
 "currentVersion": 12.9,
 "mapUnits": {
  "uwkid": 9003
 },
 "referenceScale": 0,
 "heightModelInfo": {
  "vertCRS": "NAVD_1988",
  "heightModel": "gravity_related_height",
  "heightUnit": "meter"
 },
 "maxExportTilesCount": 100000,
 "supportsSpatialFilter": true,
 "supportsVCSProjection": true,
 "maxLOD": 18,
 "supportedQueryFormats": "JSON, geoJSON, PBF",
 "datumTransformations": [
  {
   "geoTransforms": [
    {
     "latestWkid": 1580,
     "transformForward": false,
     "wkid": 1580,
     "name": "NAD_1983_HARN_To_WGS_1984"
    }
   ]
  },
  {
   "geoTransforms": [
    {
     "latestWkid": 1580,
     "transformForward": true,
     "wkid": 1580,
     "name": "NAD_1983_HARN_To_WGS_1984"
    }
   ]
  }
 ],
 "minLOD": 10,
 "initialExtent": {
  "ymin": 319932.999730924959,
  "xmin": 1820173.91400545067,
  "ymax": 332851.456050924957,
  "xmax": 1841673.80606490117,
  "spatialReference": {
   "wkt": "PROJCS[\"NAD_1983_HARN_StatePlane_Missouri_Central_FIPS_2402_USFeet\",GEOGCS[\"GCS_North_American_1983_HARN\",DATUM[\"D_North_American_1983_HARN\",SPHEROID[\"GRS_1980\",6378137.0,298.257222101]],PRIMEM[\"Greenwich\",0.0],UNIT[\"Degree\",0.0174532925199433]],PROJECTION[\"Transverse_Mercator\"],PARAMETER[\"False_Easting\",1640416.666666667],PARAMETER[\"False_Northing\",0.0],PARAMETER[\"Central_Meridian\",-92.5],PARAMETER[\"Scale_Factor\",0.9999333333333333],PARAMETER[\"Latitude_Of_Origin\",35.83333333333334],UNIT[\"Foot_US\",0.3048006096012192]],VERTCS[\"NAVD_1988\",VDATUM[\"North_American_Vertical_Datum_1988\"],PARAMETER[\"Vertical_Shift\",0.0],PARAMETER[\"Direction\",1.0],UNIT[\"Meter\",1.0]]",
   "falseM": -100000,
   "xyTolerance": 0.0032808333333333331,
   "mUnits": 10000,
   "zUnits": 10000,
   "zTolerance": 0.001,
   "xyUnits": 3048.00609601219276,
   "mTolerance": 0.001,
   "falseX": -16806900,
   "falseY": -45827300,
   "falseZ": -100000
  }
 },
 "serviceDescription": "",
 "copyrightText": "",
 "supportsTimeRelation": true
}
