View In:
ArcGIS JavaScript
ArcGIS Online Map Viewer
ArcGIS Earth
ArcGIS Pro
Service Description:
Map Name: Map5
Legend
All Layers and Tables
Layers:
Description:
Service Item Id: 19a379ca1068488b833ed38714d7ec8f
Copyright Text:
Spatial Reference:
102384
(6344)
Single Fused Map Cache: true
Tile Info:
- Height: 256.0
- Width: 256.0
- DPI: 96.0
-
Levels of Detail: 19
-
Level ID: 0
[ Start Tile, End Tile ]
- Resolution: 78109.0933041901735
- Scale: 295215470.75599432
-
Level ID: 1
[ Start Tile, End Tile ]
- Resolution: 39054.5466520950868
- Scale: 147607735.37799716
-
Level ID: 2
[ Start Tile, End Tile ]
- Resolution: 19527.2733260475434
- Scale: 73803867.68899858
-
Level ID: 3
[ Start Tile, End Tile ]
- Resolution: 9763.63666302377169
- Scale: 36901933.84449929
-
Level ID: 4
[ Start Tile, End Tile ]
- Resolution: 4881.81833151188584
- Scale: 18450966.922249645
-
Level ID: 5
[ Start Tile, End Tile ]
- Resolution: 2440.90916575594292
- Scale: 9225483.4611248225
-
Level ID: 6
[ Start Tile, End Tile ]
- Resolution: 1220.45458287797146
- Scale: 4612741.73056241125
-
Level ID: 7
[ Start Tile, End Tile ]
- Resolution: 610.227291438985731
- Scale: 2306370.86528120562
-
Level ID: 8
[ Start Tile, End Tile ]
- Resolution: 305.113645719492865
- Scale: 1153185.43264060281
-
Level ID: 9
[ Start Tile, End Tile ]
- Resolution: 152.556822859746433
- Scale: 576592.716320301406
-
Level ID: 10
[ Start Tile, End Tile ]
- Resolution: 76.278411429873216
- Scale: 288296.3581601507
-
Level ID: 11
[ Start Tile, End Tile ]
- Resolution: 38.139205714936608
- Scale: 144148.179080075352
-
Level ID: 12
[ Start Tile, End Tile ]
- Resolution: 19.069602857468304
- Scale: 72074.0895400376758
-
Level ID: 13
[ Start Tile, End Tile ]
- Resolution: 9.534801428734152
- Scale: 36037.0447700188379
-
Level ID: 14
[ Start Tile, End Tile ]
- Resolution: 4.767400714367076
- Scale: 18018.5223850094189
-
Level ID: 15
[ Start Tile, End Tile ]
- Resolution: 2.383700357183538
- Scale: 9009.26119250470947
-
Level ID: 16
[ Start Tile, End Tile ]
- Resolution: 1.191850178591769
- Scale: 4504.63059625235474
-
Level ID: 17
[ Start Tile, End Tile ]
- Resolution: 0.5959250892958845
- Scale: 2252.31529812617737
-
Level ID: 18
[ Start Tile, End Tile ]
- Resolution: 0.29796254464794225
- Scale: 1126.15764906308868
- Format: Mixed
- Compression Quality: 75.0
- Origin: X: -9497963.942936342
Y: 9997963.942936342
- Spatial Reference: 102384
(6344)
Storage Info:
- Storage Format: esriMapCacheStorageModeCompactV2
- Packet Size: 128
Initial Extent:
XMin: 595586.8700423429
YMin: 4063482.425052514
XMax: 603532.3686525077
YMax: 4068358.0719269332
Spatial Reference: 102384
(6344)
Full Extent:
XMin: 577500.0
YMin: 4038800.1
XMax: 621000.0
YMax: 4103300.1
Spatial Reference: 102384
(6344)
Units: esriMeters
Supported Image Format Types: PNG32,PNG24,PNG,JPG,DIB,TIFF,EMF,PS,PDF,GIF,SVG,SVGZ,BMP
Document Info:
Title: C:\Users\BerkshireC\OneDrive - City of West Plains\Documents\ArcGIS\Projects\Nexus Map v2\Nexus Map v2.aprx
Author:
Comments:
Subject:
Category:
Keywords:
AntialiasingMode: None
TextAntialiasingMode: Force
Supports Dynamic Layers: false
MaxRecordCount: 1000
MaxSelectionCount: 0
MaxImageHeight: 4096
MaxImageWidth: 4096
Supported Query Formats: JSON, geoJSON, PBF
Supports Query Data Elements: true
Min Scale: 2306370.86528120562
Max Scale: 1126.15764906308868
Min LOD: 7
Max LOD: 18
Supports Datum Transformation: true
Child Resources:
Info
Supported Operations:
QueryLegends
Return Updates