{
 "tileInfo": {
  "lods": [
   {
    "level": 0,
    "scale": 295215470.75599432,
    "resolution": 78109.0933041901735
   },
   {
    "level": 1,
    "scale": 147607735.37799716,
    "resolution": 39054.5466520950868
   },
   {
    "level": 2,
    "scale": 73803867.68899858,
    "resolution": 19527.2733260475434
   },
   {
    "level": 3,
    "scale": 36901933.84449929,
    "resolution": 9763.63666302377169
   },
   {
    "level": 4,
    "scale": 18450966.922249645,
    "resolution": 4881.81833151188584
   },
   {
    "level": 5,
    "scale": 9225483.4611248225,
    "resolution": 2440.90916575594292
   },
   {
    "level": 6,
    "scale": 4612741.73056241125,
    "resolution": 1220.45458287797146
   },
   {
    "level": 7,
    "scale": 2306370.86528120562,
    "resolution": 610.227291438985731
   },
   {
    "level": 8,
    "scale": 1153185.43264060281,
    "resolution": 305.113645719492865
   },
   {
    "level": 9,
    "scale": 576592.716320301406,
    "resolution": 152.556822859746433
   },
   {
    "level": 10,
    "scale": 288296.3581601507,
    "resolution": 76.2784114298732163
   },
   {
    "level": 11,
    "scale": 144148.179080075352,
    "resolution": 38.1392057149366082
   },
   {
    "level": 12,
    "scale": 72074.0895400376758,
    "resolution": 19.0696028574683041
   },
   {
    "level": 13,
    "scale": 36037.0447700188379,
    "resolution": 9.534801428734152
   },
   {
    "level": 14,
    "scale": 18018.5223850094189,
    "resolution": 4.767400714367076
   },
   {
    "level": 15,
    "scale": 9009.26119250470947,
    "resolution": 2.383700357183538
   },
   {
    "level": 16,
    "scale": 4504.63059625235474,
    "resolution": 1.191850178591769
   },
   {
    "level": 17,
    "scale": 2252.31529812617737,
    "resolution": 0.5959250892958845
   },
   {
    "level": 18,
    "scale": 1126.15764906308868,
    "resolution": 0.29796254464794225
   },
   {
    "level": 19,
    "scale": 563.078824531544342,
    "resolution": 0.14898127232397113
   },
   {
    "level": 20,
    "scale": 281.539412265772171,
    "resolution": 0.074490636161985563
   },
   {
    "level": 21,
    "scale": 140.769706132886085,
    "resolution": 0.037245318080992781
   },
   {
    "level": 22,
    "scale": 70.3848530664430427,
    "resolution": 0.018622659040496391
   },
   {
    "level": 23,
    "scale": 35.1924265332215214,
    "resolution": 0.0093113295202481954
   }
  ],
  "bandCount": 1,
  "lercError": 0,
  "origin": {
   "x": -9497963.94293634221,
   "y": 9997963.94293634221
  },
  "format": "MIXED",
  "storageFormat": "esriMapCacheStorageModeCompactV2",
  "compressionQuality": 75,
  "packetSize": 128,
  "spatialReference": {
   "latestWkid": 6344,
   "wkid": 102384
  },
  "rows": 256,
  "dpi": 96,
  "cols": 256
 },
 "units": "esriMeters",
 "type": "MapServer",
 "exportTilesAllowed": true,
 "layers": [
  {
   "serviceItemId": "04867dab437d4a48bd84c5917fbb81a3",
   "maxScale": 0,
   "legend": [
    {
     "layerId": 0,
     "imageData": "iVBORw0KGgoAAAANSUhEUgAAABQAAAAUCAYAAACNiR0NAAAACXBIWXMAAA7EAAAOxAGVKw4bAAAAOklEQVQ4jWNhoDJgoZmB/8GIfMAIRrR0IbUAC9VMgoJRAykHLFQwAwWMGkg5YBnBBjJCyzOqGUgtAABgfwJTnasaYgAAAABJRU5ErkJggg==",
     "groupId": "0",
     "width": 20,
     "label": "Red: Band_1",
     "layerName": "Howell_2024_Mosaic_Gen4_UTM.sid",
     "contentType": "image/png",
     "height": 20
    },
    {
     "layerId": 0,
     "imageData": "iVBORw0KGgoAAAANSUhEUgAAABQAAAAUCAYAAACNiR0NAAAACXBIWXMAAA7EAAAOxAGVKw4bAAAAPElEQVQ4je3UoQ0AMBBCUS5h/5WvpkmDhjr+AE8gIMLxH7hYSxqMgqFY0I4+oRX0Y8CQCvq9De+f5cBQB19+AlPZl25RAAAAAElFTkSuQmCC",
     "groupId": "0",
     "width": 20,
     "label": "Green: Band_2",
     "layerName": "Howell_2024_Mosaic_Gen4_UTM.sid",
     "contentType": "image/png",
     "height": 20
    },
    {
     "layerId": 0,
     "imageData": "iVBORw0KGgoAAAANSUhEUgAAABQAAAAUCAYAAACNiR0NAAAACXBIWXMAAA7EAAAOxAGVKw4bAAAAPElEQVQ4jWNhoDJgoaGB//9TZhQjI5qB1AEsowZSDFgoNwIVjBpIOWChghkoYNRAygFSGELKMyoaSB0AAF59AlO8NYpcAAAAAElFTkSuQmCC",
     "groupId": "0",
     "width": 20,
     "label": "Blue: Band_3",
     "layerName": "Howell_2024_Mosaic_Gen4_UTM.sid",
     "contentType": "image/png",
     "height": 20
    }
   ],
   "defaultVisibility": true,
   "type": "Raster Layer",
   "layerId": 0,
   "subLayerIds": null,
   "name": "Howell_2024_Mosaic_Gen4_UTM.sid",
   "id": 0,
   "minScale": 0,
   "supportsDynamicLegends": true,
   "layerName": "Howell_2024_Mosaic_Gen4_UTM.sid",
   "parentLayerId": -1
  }
 ],
 "minScale": 147914382,
 "mapName": "Map",
 "spatialReference": {
  "falseM": -100000,
  "xyTolerance": 0.001,
  "mUnits": 10000,
  "zUnits": 10000,
  "latestWkid": 6344,
  "zTolerance": 0.001,
  "wkid": 102384,
  "xyUnits": 10000,
  "mTolerance": 0.001,
  "falseX": -5120900,
  "falseY": -9998100,
  "falseZ": -100000
 },
 "tileImageInfo": {
  "bandCount": 1,
  "lercError": 0,
  "format": "MIXED",
  "compressionQuality": 75
 },
 "fullExtent": {
  "ymin": 4038799.95000000019,
  "xmin": 577500,
  "ymax": 4101799.95000000019,
  "xmax": 621000,
  "spatialReference": {
   "latestWkid": 6344,
   "wkid": 102384
  }
 },
 "supportedExtensions": "",
 "serviceItemId": "04867dab437d4a48bd84c5917fbb81a3",
 "capabilities": "TilesOnly,Tilemap",
 "maxScale": 0,
 "singleFusedMapCache": true,
 "version": 1,
 "storageInfo": {
  "storageFormat": "esriMapCacheStorageModeCompactV2",
  "packetSize": 128
 },
 "resampling": true,
 "currentVersion": 12,
 "maxExportTilesCount": 100000,
 "tileBundlesPath": "./tile",
 "maxLOD": 20,
 "minLOD": 6,
 "initialExtent": {
  "ymin": 4038799.95000000019,
  "xmin": 577500,
  "ymax": 4101799.95000000019,
  "xmax": 621000,
  "spatialReference": {
   "latestWkid": 6344,
   "wkid": 102384
  }
 },
 "name": "Map",
 "serviceDescription": ""
}
